BEGIN:VCALENDAR
VERSION:2.0
PRODID:-//IP.Board Calendar 4.1.18.2//EN
METHOD:PUBLISH
CALSCALE:GREGORIAN
BEGIN:VTIMEZONE
TZID:Europe/London
TZURL:http://tzurl.org/zoneinfo/Europe/London
X-LIC-LOCATION:Europe/London
BEGIN:DAYLIGHT
TZOFFSETFROM:+0000
TZOFFSETTO:+0100
TZNAME:BST
DTSTART:20170326T020000Z
RRULE:FREQ=YEARLY;BYMONTH=3;BYDAY=-1SU
END:DAYLIGHT
BEGIN:STANDARD
TZOFFSETFROM:+0100
TZOFFSETTO:+0000
TZNAME:GMT
DTSTART:20171029T020000Z
RRULE:FREQ=YEARLY;BYMONTH=10;BYDAY=-1SU
END:STANDARD
END:VTIMEZONE
BEGIN:VEVENT
SUMMARY:Играем в Climbey и Onward
DTSTAMP:20170114T095859Z
SEQUENCE:0
UID:5-1-df748566edbc50c513486c9029d2c92b@viverus.ru
ORGANIZER;CN="Sergio":vive@kamensktel.ru
DESCRIPTION:\n	Играем в Climbey\, Onwar
	d. Время ориентировочно указан
	о. Используем Дискорд - https://discord.gg/XHk5frd\n
DTSTART:20170114T120000Z
DTEND:20170114T150000Z
END:VEVENT
BEGIN:VEVENT
SUMMARY:Играем в Onward
DTSTAMP:20170109T221355Z
SEQUENCE:0
UID:4-1-df748566edbc50c513486c9029d2c92b@viverus.ru
ORGANIZER;CN="Sergio":vive@kamensktel.ru
DESCRIPTION:\n\n	Сбор в Дискорд.  https://discord.gg/XHk
	5frd\n\n\n\n	Время указа
	но ориентирово
	чно\, можем начать
	 позже\, можем ра
	ньше\, по обст
	оятельством\
	, будьте на свя
	зи пишите в ком
	ментариях если хотите принять участие\, 
	и желаемое время.\n\n
DTSTART:20170110T170000Z
DTEND:20170110T205900Z
END:VEVENT
END:VCALENDAR
